BEGIN:VCALENDAR
VERSION:2.0
PRODID:-//ChamberMaster//Event Calendar 2.0//EN
METHOD:PUBLISH
X-PUBLISHED-TTL:P3D
REFRESH-INTERVAL:P3D
CALSCALE:GREGORIAN
BEGIN:VEVENT
DTSTART:20100305T060000Z
DTEND:20100307T060000Z
X-MICROSOFT-CDO-ALLDAYEVENT:FALSE
SUMMARY:2010 Home Show
DESCRIPTION:2010 Home Show\n Sioux Falls Convention Center
X-ALT-DESC;FMTTYPE=text/html:<p>2010 Home Show<br /> Sioux Falls Convention Center</p>
LOCATION:
UID:e.9375.57
SEQUENCE:3
DTSTAMP:20260421T021438Z
URL:https://business.hbasiouxempire.com/events/details/2010-home-show-03-05-2010-57
END:VEVENT

END:VCALENDAR
