BEGIN:VCALENDAR
VERSION:2.0
PRODID:-//ChamberMaster//Event Calendar 2.0//EN
METHOD:PUBLISH
X-PUBLISHED-TTL:P3D
REFRESH-INTERVAL:P3D
CALSCALE:GREGORIAN
BEGIN:VEVENT
DTSTART;VALUE=DATE:20101028
DTEND;VALUE=DATE:20101029
TRANSP:TRANSPARENT
X-MICROSOFT-CDO-ALLDAYEVENT:TRUE
SUMMARY:2010 Product Show
DESCRIPTION:
X-ALT-DESC;FMTTYPE=text/html:
LOCATION:
UID:e.9375.82
SEQUENCE:3
DTSTAMP:20260420T155039Z
URL:https://business.hbasiouxempire.com/events/details/2010-product-show-10-28-2010-82
END:VEVENT

END:VCALENDAR
