BEGIN:VCALENDAR
VERSION:2.0
PRODID:-//ChamberMaster//Event Calendar 2.0//EN
METHOD:PUBLISH
X-PUBLISHED-TTL:P3D
REFRESH-INTERVAL:P3D
CALSCALE:GREGORIAN
BEGIN:VEVENT
DTSTART;VALUE=DATE:20110524
DTEND;VALUE=DATE:20110525
TRANSP:TRANSPARENT
X-MICROSOFT-CDO-ALLDAYEVENT:TRUE
SUMMARY:2011 City Bus Tour
DESCRIPTION:2:00pm - Registration - CJ Callaway's\n 2:30pm sharp - Bus will leave\n 5:00pm - Bus returns to CJ Callaway's
X-ALT-DESC;FMTTYPE=text/html:<p>&nbsp\;</p> <p>2:00pm - Registration - CJ Callaway&rsquo\;s<br /> 2:30pm sharp - Bus will leave<br /> 5:00pm - Bus returns to CJ Callaway&rsquo\;s</p>
LOCATION:
UID:e.9375.99
SEQUENCE:3
DTSTAMP:20260420T070005Z
URL:https://business.hbasiouxempire.com/events/details/2011-city-bus-tour-05-24-2011-99
END:VEVENT

END:VCALENDAR
