BEGIN:VCALENDAR
VERSION:2.0
PRODID:-//ChamberMaster//Event Calendar 2.0//EN
METHOD:PUBLISH
X-PUBLISHED-TTL:P3D
REFRESH-INTERVAL:P3D
CALSCALE:GREGORIAN
BEGIN:VEVENT
DTSTART;VALUE=DATE:20100429
DTEND;VALUE=DATE:20100430
TRANSP:TRANSPARENT
X-MICROSOFT-CDO-ALLDAYEVENT:TRUE
SUMMARY:April 2010 Membership Meeting/Game Night
DESCRIPTION:Westward Ho Country Club\n \n \n \n 5:30pm   Social Hour\n 6:30pm   Dinner\n 7:15 - 9:15pm   Games\n 9:15pm - Prize Drawing
X-ALT-DESC;FMTTYPE=text/html:<p>Westward Ho Country Club<br /> <br /> <br /> <br /> 5:30pm&nbsp\;&nbsp\; Social Hour<br /> 6:30pm&nbsp\;&nbsp\; Dinner<br /> 7:15 - 9:15pm&nbsp\;&nbsp\;&nbsp\;Games<br /> 9:15pm -&nbsp\;Prize Drawing<br /> &nbsp\;</p> <p><br /> &nbsp\;</p>
LOCATION:Westward Ho Country Club Sioux Falls\, SD 57106
UID:e.9375.62
SEQUENCE:3
DTSTAMP:20260421T010103Z
URL:https://business.hbasiouxempire.com/events/details/april-2010-membership-meeting-game-night-04-29-2010-62
END:VEVENT

END:VCALENDAR
