BEGIN:VCALENDAR
VERSION:2.0
PRODID:-//ChamberMaster//Event Calendar 2.0//EN
METHOD:PUBLISH
X-PUBLISHED-TTL:P3D
REFRESH-INTERVAL:P3D
CALSCALE:GREGORIAN
BEGIN:VEVENT
DTSTART;VALUE=DATE:20110713
DTEND;VALUE=DATE:20110714
TRANSP:TRANSPARENT
X-MICROSOFT-CDO-ALLDAYEVENT:TRUE
SUMMARY:Associate's Appreciation Night - 07/13/2011
DESCRIPTION:6:00pm - Social\n 6:30pm - 7:30pm - Dinner
X-ALT-DESC;FMTTYPE=text/html:<p>6:00pm - Social<br /> 6:30pm - 7:30pm - Dinner</p>
LOCATION:
UID:e.9375.104
SEQUENCE:3
DTSTAMP:20260420T022621Z
URL:https://business.hbasiouxempire.com/events/details/associate-s-appreciation-night-07-13-2011-07-13-2011-104
END:VEVENT

END:VCALENDAR
