BEGIN:VCALENDAR
VERSION:2.0
PRODID:-//ChamberMaster//Event Calendar 2.0//EN
METHOD:PUBLISH
X-PUBLISHED-TTL:P3D
REFRESH-INTERVAL:P3D
CALSCALE:GREGORIAN
BEGIN:VEVENT
DTSTART;VALUE=DATE:20100824
DTEND;VALUE=DATE:20100825
TRANSP:TRANSPARENT
X-MICROSOFT-CDO-ALLDAYEVENT:TRUE
SUMMARY:August 2010 Membership Meeting/Golf Classic Mtg
DESCRIPTION:Westward Ho Country Club\n \n 6:00pm - Social Hour \n 7:00pm -  Dinner\n 8:00pm - Program
X-ALT-DESC;FMTTYPE=text/html:<p>Westward Ho Country Club<br /> <br /> 6:00pm - Social Hour <br /> 7:00pm -&nbsp\; Dinner<br /> 8:00pm - Program</p>
LOCATION:Westward Ho Country Club Sioux Falls\, SD 57106
UID:e.9375.74
SEQUENCE:3
DTSTAMP:20260420T202550Z
URL:https://business.hbasiouxempire.com/events/details/august-2010-membership-meeting-golf-classic-mtg-08-24-2010-74
END:VEVENT

END:VCALENDAR
