BEGIN:VCALENDAR
VERSION:2.0
PRODID:-//ChamberMaster//Event Calendar 2.0//EN
METHOD:PUBLISH
X-PUBLISHED-TTL:P3D
REFRESH-INTERVAL:P3D
CALSCALE:GREGORIAN
BEGIN:VEVENT
DTSTART;VALUE=DATE:20081118
DTEND;VALUE=DATE:20081119
TRANSP:TRANSPARENT
X-MICROSOFT-CDO-ALLDAYEVENT:TRUE
SUMMARY:Builder Financing: Working with your Lender in the Credit Crunch Audio Seminar
DESCRIPTION:
X-ALT-DESC;FMTTYPE=text/html:
LOCATION:
UID:e.9375.26
SEQUENCE:3
DTSTAMP:20260423T203449Z
URL:https://business.hbasiouxempire.com/events/details/builder-financing-working-with-your-lender-in-the-credit-crunch-audio-seminar-11-18-2008-26
END:VEVENT

END:VCALENDAR
