BEGIN:VCALENDAR
VERSION:2.0
PRODID:-//ChamberMaster//Event Calendar 2.0//EN
METHOD:PUBLISH
X-PUBLISHED-TTL:P3D
REFRESH-INTERVAL:P3D
CALSCALE:GREGORIAN
BEGIN:VEVENT
DTSTART;VALUE=DATE:20090224
DTEND;VALUE=DATE:20090225
TRANSP:TRANSPARENT
X-MICROSOFT-CDO-ALLDAYEVENT:TRUE
SUMMARY:Business Management for Building Professionals
DESCRIPTION:
X-ALT-DESC;FMTTYPE=text/html:
LOCATION:6904 S Lyncrest Pl Sioux Falls\, SD 57108
UID:e.9375.31
SEQUENCE:3
DTSTAMP:20260423T161759Z
URL:https://business.hbasiouxempire.com/events/details/business-management-for-building-professionals-02-24-2009-31
END:VEVENT

END:VCALENDAR
