BEGIN:VCALENDAR
VERSION:2.0
PRODID:-//ChamberMaster//Event Calendar 2.0//EN
METHOD:PUBLISH
X-PUBLISHED-TTL:P3D
REFRESH-INTERVAL:P3D
CALSCALE:GREGORIAN
BEGIN:VEVENT
DTSTART;VALUE=DATE:20101201
DTEND;VALUE=DATE:20101202
TRANSP:TRANSPARENT
X-MICROSOFT-CDO-ALLDAYEVENT:TRUE
SUMMARY:December Remodeling Council Meeting
DESCRIPTION:
X-ALT-DESC;FMTTYPE=text/html:
LOCATION:
UID:e.9375.85
SEQUENCE:3
DTSTAMP:20260420T124344Z
URL:https://business.hbasiouxempire.com/events/details/december-remodeling-council-meeting-12-01-2010-85
END:VEVENT

END:VCALENDAR
