BEGIN:VCALENDAR
VERSION:2.0
PRODID:-//ChamberMaster//Event Calendar 2.0//EN
METHOD:PUBLISH
X-PUBLISHED-TTL:P3D
REFRESH-INTERVAL:P3D
CALSCALE:GREGORIAN
BEGIN:VEVENT
DTSTART:20070927T050000Z
DTEND:20070927T050000Z
X-MICROSOFT-CDO-ALLDAYEVENT:FALSE
SUMMARY:Energy Star Seminar
DESCRIPTION:
X-ALT-DESC;FMTTYPE=text/html:
LOCATION:
UID:e.9375.239
SEQUENCE:3
DTSTAMP:20260424T130145Z
URL:https://business.hbasiouxempire.com/events/details/energy-star-seminar-09-27-2007-239
END:VEVENT

END:VCALENDAR
