BEGIN:VCALENDAR
VERSION:2.0
PRODID:-//ChamberMaster//Event Calendar 2.0//EN
METHOD:PUBLISH
X-PUBLISHED-TTL:P3D
REFRESH-INTERVAL:P3D
CALSCALE:GREGORIAN
BEGIN:VEVENT
DTSTART:20100911T050000Z
DTEND:20100913T050000Z
X-MICROSOFT-CDO-ALLDAYEVENT:FALSE
SUMMARY:Fall Parade of Homes - 09/11/2010
DESCRIPTION:Over 80 newly constructed homes will be on display throughout the Sioux Empire. Tour these homes and see the hottest trends in the home building industry. You'll even have the opportunity to talk to some of the builders themselves. Admission into the homes is free (excluding any Feature Homes). Gold sponsor of the 2010 Parade of Homes is Thornton Flooring Outlet.
X-ALT-DESC;FMTTYPE=text/html:<p>Over 80 newly constructed homes will be on display throughout the Sioux Empire. Tour these homes and see the hottest trends in the home building industry. You&rsquo\;ll even have the opportunity to talk to some of the builders themselves. Admission into the homes is free (excluding any Feature Homes). Gold sponsor of the 2010 Parade of Homes is Thornton Flooring Outlet.</p>
LOCATION:
UID:e.9375.78
SEQUENCE:3
DTSTAMP:20260420T175729Z
URL:https://business.hbasiouxempire.com/events/details/fall-parade-of-homes-09-11-2010-09-11-2010-78
END:VEVENT

END:VCALENDAR
