BEGIN:VCALENDAR
VERSION:2.0
PRODID:-//ChamberMaster//Event Calendar 2.0//EN
METHOD:PUBLISH
X-PUBLISHED-TTL:P3D
REFRESH-INTERVAL:P3D
CALSCALE:GREGORIAN
BEGIN:VEVENT
DTSTART;VALUE=DATE:20100223
DTEND;VALUE=DATE:20100224
TRANSP:TRANSPARENT
X-MICROSOFT-CDO-ALLDAYEVENT:TRUE
SUMMARY:February 2010 Membership Meeting
DESCRIPTION:Westward Ho Country Club\n \n \n \n 5:30pm   Social Hour\n 6:30pm   Dinner ($22 w/ reservation OR $25 w/o reservation)\n 7:30pm   Program -
X-ALT-DESC;FMTTYPE=text/html:<p>Westward Ho Country Club<br /> <br /> <br /> <br /> 5:30pm&nbsp\;&nbsp\; Social Hour<br /> 6:30pm&nbsp\;&nbsp\; Dinner ($22 w/ reservation OR $25 w/o reservation)<br /> 7:30pm&nbsp\;&nbsp\; Program -&nbsp\;<br /> &nbsp\;</p> <p><br /> &nbsp\;</p>
LOCATION:Westward Ho Country Club Sioux Falls\, SD 57106
UID:e.9375.56
SEQUENCE:3
DTSTAMP:20260421T034753Z
URL:https://business.hbasiouxempire.com/events/details/february-2010-membership-meeting-02-23-2010-56
END:VEVENT

END:VCALENDAR
