BEGIN:VCALENDAR
VERSION:2.0
PRODID:-//ChamberMaster//Event Calendar 2.0//EN
METHOD:PUBLISH
X-PUBLISHED-TTL:P3D
REFRESH-INTERVAL:P3D
CALSCALE:GREGORIAN
BEGIN:VEVENT
DTSTART;VALUE=DATE:20120427
DTEND;VALUE=DATE:20120428
TRANSP:TRANSPARENT
X-MICROSOFT-CDO-ALLDAYEVENT:TRUE
SUMMARY:FREE Member Appreciation Lunch - 04/27/2012
DESCRIPTION:Located at the VFW on S. Minnesota Avenue just north of I-229\, members can enjoy a free pork loin sandwich from 11:30am to 1:30pm. Door prizes given out during the event as well (need not be present to win).
X-ALT-DESC;FMTTYPE=text/html:Located at the VFW on S. Minnesota Avenue just north of I-229\, members can enjoy a free pork loin sandwich from 11:30am to 1:30pm. Door prizes given out during the event as well (need not be present to win).
LOCATION:
UID:e.9375.122
SEQUENCE:3
DTSTAMP:20260419T135039Z
URL:https://business.hbasiouxempire.com/events/details/free-member-appreciation-lunch-04-27-2012-04-27-2012-122
END:VEVENT

END:VCALENDAR
