BEGIN:VCALENDAR
VERSION:2.0
PRODID:-//ChamberMaster//Event Calendar 2.0//EN
METHOD:PUBLISH
X-PUBLISHED-TTL:P3D
REFRESH-INTERVAL:P3D
CALSCALE:GREGORIAN
BEGIN:VEVENT
DTSTART:20080604T050000Z
DTEND:20080604T050000Z
X-MICROSOFT-CDO-ALLDAYEVENT:FALSE
SUMMARY:Golf Outing - 06/04/2008
DESCRIPTION:
X-ALT-DESC;FMTTYPE=text/html:
LOCATION:
UID:e.9375.242
SEQUENCE:3
DTSTAMP:20260424T015226Z
URL:https://business.hbasiouxempire.com/events/details/golf-outing-06-04-2008-06-04-2008-242
END:VEVENT

END:VCALENDAR
