BEGIN:VCALENDAR
VERSION:2.0
PRODID:-//ChamberMaster//Event Calendar 2.0//EN
METHOD:PUBLISH
X-PUBLISHED-TTL:P3D
REFRESH-INTERVAL:P3D
CALSCALE:GREGORIAN
BEGIN:VEVENT
DTSTART:20100521T050000Z
DTEND:20100521T050000Z
X-MICROSOFT-CDO-ALLDAYEVENT:FALSE
SUMMARY:HBASE Member Appreciation Breakfast - 05/21/2010
DESCRIPTION:
X-ALT-DESC;FMTTYPE=text/html:
LOCATION:VFW Sioux Falls\, SD 57104
UID:e.9375.256
SEQUENCE:3
DTSTAMP:20260420T232935Z
URL:https://business.hbasiouxempire.com/events/details/hbase-member-appreciation-breakfast-05-21-2010-05-21-2010-256
END:VEVENT

END:VCALENDAR
