BEGIN:VCALENDAR
VERSION:2.0
PRODID:-//ChamberMaster//Event Calendar 2.0//EN
METHOD:PUBLISH
X-PUBLISHED-TTL:P3D
REFRESH-INTERVAL:P3D
CALSCALE:GREGORIAN
BEGIN:VEVENT
DTSTART;VALUE=DATE:20111202
DTEND;VALUE=DATE:20111203
TRANSP:TRANSPARENT
X-MICROSOFT-CDO-ALLDAYEVENT:TRUE
SUMMARY:Holiday Gala - Holiday Inn Downtown - 12/02/2011
DESCRIPTION:6:30pm - Hall of Fame Reception\n    7:00pm - Social\n    7:30pm - Dinner\n    8:30pm - Program
X-ALT-DESC;FMTTYPE=text/html:<p>6:30pm - Hall of Fame Reception<br>    7:00pm - Social<br>    7:30pm - Dinner<br>    8:30pm - Program</p>
LOCATION:
UID:e.9375.114
SEQUENCE:3
DTSTAMP:20260419T202548Z
URL:https://business.hbasiouxempire.com/events/details/holiday-gala-holiday-inn-downtown-12-02-2011-12-02-2011-114
END:VEVENT

END:VCALENDAR
