BEGIN:VCALENDAR
VERSION:2.0
PRODID:-//ChamberMaster//Event Calendar 2.0//EN
METHOD:PUBLISH
X-PUBLISHED-TTL:P3D
REFRESH-INTERVAL:P3D
CALSCALE:GREGORIAN
BEGIN:VEVENT
DTSTART;VALUE=DATE:20080229
DTEND;VALUE=DATE:20080301
TRANSP:TRANSPARENT
X-MICROSOFT-CDO-ALLDAYEVENT:TRUE
SUMMARY:Home Show Exhibitor Reception/February Membership Meeting
DESCRIPTION:
X-ALT-DESC;FMTTYPE=text/html:
LOCATION:Ramada Inn & Suites Sioux Falls\, SD 57108
UID:e.9375.7
SEQUENCE:3
DTSTAMP:20260424T052236Z
URL:https://business.hbasiouxempire.com/events/details/home-show-exhibitor-reception-february-membership-meeting-02-29-2008-7
END:VEVENT

END:VCALENDAR
