BEGIN:VCALENDAR
VERSION:2.0
PRODID:-//ChamberMaster//Event Calendar 2.0//EN
METHOD:PUBLISH
X-PUBLISHED-TTL:P3D
REFRESH-INTERVAL:P3D
CALSCALE:GREGORIAN
BEGIN:VEVENT
DTSTART;VALUE=DATE:20100128
DTEND;VALUE=DATE:20100129
TRANSP:TRANSPARENT
X-MICROSOFT-CDO-ALLDAYEVENT:TRUE
SUMMARY:January 2010 Membership Meeting
DESCRIPTION:Westward Ho Country Club\n \n \n 5:00pm   Member Orientation (all members are invited)\n 5:30pm   Social Hour\n 6:30pm   Dinner ($18 w/ reservation OR $20 w/o reservation)\n 7:30pm   Program - * Strategic Plan for Sioux Falls\n   * To build on the successes of the past and work within the context of current economic realities\, Sioux Falls is embarking upon a strategic planning effort that will analyze vital components of the community's strengths and chart a course for future growth. Slater Barr\, President of the Sioux Falls Development Foundation\, will be sharing these visions with the HBASE membership at the January 28 General Membership Meeting. Numerous organizations\, including the Chamber of Commerce and city and county governments\, are partnering on the program. The analysis of Sioux Falls will consist of three elements: people\, prosperity and place.
X-ALT-DESC;FMTTYPE=text/html:<p>Westward Ho Country Club<br /> <br /> <br /> 5:00pm&nbsp\;&nbsp\; Member Orientation (all members are invited)<br /> 5:30pm&nbsp\;&nbsp\; Social Hour<br /> 6:30pm&nbsp\;&nbsp\; Dinner ($18 w/ reservation OR $20 w/o reservation)<br /> 7:30pm&nbsp\;&nbsp\; Program - * Strategic Plan for Sioux Falls<br /> &nbsp\;</p> <p>* To build on the successes of the past and work within the context of current economic realities\, Sioux Falls is embarking upon a strategic planning effort that will analyze vital components of the community&rsquo\;s strengths and chart a course for future growth. Slater Barr\, President of the Sioux Falls Development Foundation\, will be sharing these visions with the HBASE membership at the January 28 General Membership Meeting. Numerous organizations\, including the Chamber of Commerce and city and county governments\, are partnering on the program. The analysis of Sioux Falls will consist of three elements: people\, prosperity and place.<br /> &nbsp\;</p>
LOCATION:Westward Ho Country Club Sioux Falls\, SD 57106
UID:e.9375.53
SEQUENCE:3
DTSTAMP:20260421T052042Z
URL:https://business.hbasiouxempire.com/events/details/january-2010-membership-meeting-01-28-2010-53
END:VEVENT

END:VCALENDAR
