BEGIN:VCALENDAR
VERSION:2.0
PRODID:-//ChamberMaster//Event Calendar 2.0//EN
METHOD:PUBLISH
X-PUBLISHED-TTL:P3D
REFRESH-INTERVAL:P3D
CALSCALE:GREGORIAN
BEGIN:VEVENT
DTSTART;VALUE=DATE:20090611
DTEND;VALUE=DATE:20090612
TRANSP:TRANSPARENT
X-MICROSOFT-CDO-ALLDAYEVENT:TRUE
SUMMARY:June Membership Meeting - Canaries Game
DESCRIPTION:Social - 5:30pm\n Dinner - 6:00pm\n Game - 7:05pm
X-ALT-DESC;FMTTYPE=text/html:<p>Social - 5:30pm<br /> Dinner - 6:00pm<br /> Game - 7:05pm</p>
LOCATION:
UID:e.9375.38
SEQUENCE:3
DTSTAMP:20260423T080745Z
URL:https://business.hbasiouxempire.com/events/details/june-membership-meeting-canaries-game-06-11-2009-38
END:VEVENT

END:VCALENDAR
