BEGIN:VCALENDAR
VERSION:2.0
PRODID:-//ChamberMaster//Event Calendar 2.0//EN
METHOD:PUBLISH
X-PUBLISHED-TTL:P3D
REFRESH-INTERVAL:P3D
CALSCALE:GREGORIAN
BEGIN:VEVENT
DTSTART;VALUE=DATE:20081028
DTEND;VALUE=DATE:20081029
TRANSP:TRANSPARENT
X-MICROSOFT-CDO-ALLDAYEVENT:TRUE
SUMMARY:Lead Paint Audio Seminar
DESCRIPTION:Remodeling Council Members - $10 Non-Remodeling Council Members - $15
X-ALT-DESC;FMTTYPE=text/html:<p>Remodeling Council Members - $10</p> <p>Non-Remodeling Council Members - $15</p>
LOCATION:
UID:e.9375.23
SEQUENCE:3
DTSTAMP:20260423T203148Z
URL:https://business.hbasiouxempire.com/events/details/lead-paint-audio-seminar-10-28-2008-23
END:VEVENT

END:VCALENDAR
