BEGIN:VCALENDAR
VERSION:2.0
PRODID:-//ChamberMaster//Event Calendar 2.0//EN
METHOD:PUBLISH
X-PUBLISHED-TTL:P3D
REFRESH-INTERVAL:P3D
CALSCALE:GREGORIAN
BEGIN:VEVENT
DTSTART;VALUE=DATE:20100210
DTEND;VALUE=DATE:20100211
TRANSP:TRANSPARENT
X-MICROSOFT-CDO-ALLDAYEVENT:TRUE
SUMMARY:Lead Paint Certification Training
DESCRIPTION:As the deadline for contractors to be trained and certified in lead-safe work practices approaches quickly (April 22\, 2010)\, the HBASE is offering a course on this topic. The Renovation\, Repair and Painting rule set by the EPA will require anyone working in homes built before 1978 and inhabited by small children or pregnant women to complete eight hours of training\, use lead-safe practices and keep numerous records of the work done.\n   Seating is limited so please RSVP by Jan. 26. Cost*: HBA Member - $175\n HBA Non-Member - $200\n (Includes Lunch) *Save $10 if you register before Jan. 15.
X-ALT-DESC;FMTTYPE=text/html:<p>As the deadline for contractors to be trained and certified in lead-safe work practices approaches quickly (April 22\, 2010)\, the HBASE is offering a course on this topic. The Renovation\, Repair and Painting rule set by the EPA will require anyone working in homes built before 1978 and inhabited by small children or pregnant women to complete eight hours of training\, use lead-safe practices and keep numerous records of the work done.<br /> &nbsp\;</p> <p>Seating is limited so please RSVP by Jan. 26.</p> <p>Cost*: HBA Member - $175<br /> HBA Non-Member - $200<br /> (Includes Lunch)</p> <p>*Save $10 if you register before Jan. 15.</p>
LOCATION:
UID:e.9375.54
SEQUENCE:3
DTSTAMP:20260421T034517Z
URL:https://business.hbasiouxempire.com/events/details/lead-paint-certification-training-02-10-2010-54
END:VEVENT

END:VCALENDAR
