BEGIN:VCALENDAR
VERSION:2.0
PRODID:-//ChamberMaster//Event Calendar 2.0//EN
METHOD:PUBLISH
X-PUBLISHED-TTL:P3D
REFRESH-INTERVAL:P3D
CALSCALE:GREGORIAN
BEGIN:VEVENT
DTSTART;VALUE=DATE:20100316
DTEND;VALUE=DATE:20100317
TRANSP:TRANSPARENT
X-MICROSOFT-CDO-ALLDAYEVENT:TRUE
SUMMARY:Lead Renovation\, Repair & Paint Certification Training - 03/16/2010
DESCRIPTION:As the deadline for contractors to be trained and certified in lead-safe work practices approaches quickly (April 22\, 2010)\, the HBASE is offering a course on this topic. The Renovation\, Repair and Painting rule set by the EPA will require anyone working in homes built before 1978 and inhabited by small children or pregnant women to complete eight hours of training\, use lead-safe practices and keep numerous records of the work
X-ALT-DESC;FMTTYPE=text/html:<p>As the deadline for contractors to be trained and certified in lead-safe work practices approaches quickly (April 22\, 2010)\, the HBASE is offering a course on this topic. The Renovation\, Repair and Painting rule set by the EPA will require anyone working in homes built before 1978 and inhabited by small children or pregnant women to complete eight hours of training\, use lead-safe practices and keep numerous records of the work</p>
LOCATION:
UID:e.9375.58
SEQUENCE:3
DTSTAMP:20260421T022648Z
URL:https://business.hbasiouxempire.com/events/details/lead-renovation-repair-paint-certification-training-03-16-2010-03-16-2010-58
END:VEVENT

END:VCALENDAR
