BEGIN:VCALENDAR
VERSION:2.0
PRODID:-//ChamberMaster//Event Calendar 2.0//EN
METHOD:PUBLISH
X-PUBLISHED-TTL:P3D
REFRESH-INTERVAL:P3D
CALSCALE:GREGORIAN
BEGIN:VEVENT
DTSTART;VALUE=DATE:20100831
DTEND;VALUE=DATE:20100901
TRANSP:TRANSPARENT
X-MICROSOFT-CDO-ALLDAYEVENT:TRUE
SUMMARY:Lead Renovation\, Repair & Paint Certification Training - 08/31/2010
DESCRIPTION:The deadline (April 22\, 2010) for contractors to be trained and certified in lead-safe work practices has come and gone. The HBASE is offering another course on this topic. The Renovation\, Repair and Painting rule set by the EPA will require anyone working in homes built before 1978 and inhabited by small children or pregnant women to complete eight hours of training\, use lead-safe practices and keep numerous records of the work. Must cancel by August 24\, 2010 in order to receive refund.  If not cancelled by August 24\, 2010\, you will still be billed for the Seminar.
X-ALT-DESC;FMTTYPE=text/html:<p>The deadline (April 22\, 2010) for contractors to be trained and certified in lead-safe work practices&nbsp\;has&nbsp\;come and gone.&nbsp\;The HBASE is offering another course on this topic. The Renovation\, Repair and Painting rule set by the EPA will require anyone working in homes built before 1978 and inhabited by small children or pregnant women to complete eight hours of training\, use lead-safe practices and keep numerous records of the work.</p> <p>Must cancel by August 24\, 2010 in order to receive refund.&nbsp\; If not cancelled by August 24\, 2010\, you will still be billed for the Seminar.</p>
LOCATION:
UID:e.9375.77
SEQUENCE:3
DTSTAMP:20260420T190951Z
URL:https://business.hbasiouxempire.com/events/details/lead-renovation-repair-paint-certification-training-08-31-2010-08-31-2010-77
END:VEVENT

END:VCALENDAR
