BEGIN:VCALENDAR
VERSION:2.0
PRODID:-//ChamberMaster//Event Calendar 2.0//EN
METHOD:PUBLISH
X-PUBLISHED-TTL:P3D
REFRESH-INTERVAL:P3D
CALSCALE:GREGORIAN
BEGIN:VEVENT
DTSTART;VALUE=DATE:20100218
DTEND;VALUE=DATE:20100219
TRANSP:TRANSPARENT
X-MICROSOFT-CDO-ALLDAYEVENT:TRUE
SUMMARY:Managing Water in Residential Construction - 02/18/2010
DESCRIPTION:- Demonstration on the correct weather bearing installation of Tyvek\n - What lets air and water into homes? Become a certified installer for weather barriers and flashing systems when you successfully complete this course and exam\, presented by Steve Skedsvold\, Senior Certified Tyvek  Weatherization Specialist. This course also qualifies for the Sioux Falls Residential Contractor's licensing requirements. Cost: HBA Member - $10\n HBA Non-Member - $15\n (Includes Lunch) Seating is limited so please RSVP by Jan. 22.
X-ALT-DESC;FMTTYPE=text/html:<p>- Demonstration on the correct weather bearing installation of Tyvek<br /> - What lets air and water into homes?</p> <p>Become a certified installer for weather barriers and flashing systems when you&nbsp\;successfully complete&nbsp\;this course and exam\, presented by Steve Skedsvold\, Senior Certified Tyvek&reg\; Weatherization Specialist. This course also qualifies for the Sioux Falls Residential Contractor&rsquo\;s licensing requirements.</p> <p>Cost: HBA Member - $10<br /> HBA Non-Member - $15<br /> (Includes Lunch)</p> <p>Seating is limited so please RSVP by Jan. 22.<br /> &nbsp\;</p>
LOCATION:
UID:e.9375.55
SEQUENCE:3
DTSTAMP:20260421T035002Z
URL:https://business.hbasiouxempire.com/events/details/managing-water-in-residential-construction-02-18-2010-02-18-2010-55
END:VEVENT

END:VCALENDAR
