BEGIN:VCALENDAR
VERSION:2.0
PRODID:-//ChamberMaster//Event Calendar 2.0//EN
METHOD:PUBLISH
X-PUBLISHED-TTL:P3D
REFRESH-INTERVAL:P3D
CALSCALE:GREGORIAN
BEGIN:VEVENT
DTSTART;VALUE=DATE:20110322
DTEND;VALUE=DATE:20110323
TRANSP:TRANSPARENT
X-MICROSOFT-CDO-ALLDAYEVENT:TRUE
SUMMARY:Managing Water in Residential Construction - 03/22/2011
DESCRIPTION:
X-ALT-DESC;FMTTYPE=text/html:
LOCATION:
UID:e.9375.93
SEQUENCE:3
DTSTAMP:20260420T084147Z
URL:https://business.hbasiouxempire.com/events/details/managing-water-in-residential-construction-03-22-2011-03-22-2011-93
END:VEVENT

END:VCALENDAR
