BEGIN:VCALENDAR
VERSION:2.0
PRODID:-//ChamberMaster//Event Calendar 2.0//EN
METHOD:PUBLISH
X-PUBLISHED-TTL:P3D
REFRESH-INTERVAL:P3D
CALSCALE:GREGORIAN
BEGIN:VEVENT
DTSTART;VALUE=DATE:20100325
DTEND;VALUE=DATE:20100326
TRANSP:TRANSPARENT
X-MICROSOFT-CDO-ALLDAYEVENT:TRUE
SUMMARY:March 2010 Membership Meeting
DESCRIPTION:Westward Ho Country Club\n \n \n 5:00pm   Member Orientation (all members are invited)\n 5:30pm   Social Hour\n 6:30pm   Dinner ($18 w/ reservation OR $20 w/o reservation)\n 7:30pm   Program - Mayor Candidate Forum
X-ALT-DESC;FMTTYPE=text/html:<p>Westward Ho Country Club<br /> <br /> <br /> 5:00pm&nbsp\;&nbsp\; Member Orientation (all members are invited)<br /> 5:30pm&nbsp\;&nbsp\; Social Hour<br /> 6:30pm&nbsp\;&nbsp\; Dinner ($18 w/ reservation OR $20 w/o reservation)<br /> 7:30pm&nbsp\;&nbsp\; Program -&nbsp\;Mayor Candidate Forum<br /> &nbsp\;</p> <p><br /> &nbsp\;</p>
LOCATION:Westward Ho Country Club Sioux Falls\, SD 57106
UID:e.9375.59
SEQUENCE:3
DTSTAMP:20260421T022427Z
URL:https://business.hbasiouxempire.com/events/details/march-2010-membership-meeting-03-25-2010-59
END:VEVENT

END:VCALENDAR
