BEGIN:VCALENDAR
VERSION:2.0
PRODID:-//ChamberMaster//Event Calendar 2.0//EN
METHOD:PUBLISH
X-PUBLISHED-TTL:P3D
REFRESH-INTERVAL:P3D
CALSCALE:GREGORIAN
BEGIN:VEVENT
DTSTART;VALUE=DATE:20080318
DTEND;VALUE=DATE:20080319
TRANSP:TRANSPARENT
X-MICROSOFT-CDO-ALLDAYEVENT:TRUE
SUMMARY:March Membership Meeting - Nitwits Comedy Club
DESCRIPTION:5:30-6:30pm - Social Hour\n 6:30-7:15pm - Dinner (Roast Beef\, Chicken Breast\, Potatoes\, Green Beans)\n 7:15-7:30pm - Annoucements\n 7:30pm - Comedian Pat Godman
X-ALT-DESC;FMTTYPE=text/html:<p>5:30-6:30pm - Social Hour<br /> 6:30-7:15pm - Dinner (Roast Beef\, Chicken Breast\, Potatoes\, Green Beans)<br /> 7:15-7:30pm - Annoucements<br /> 7:30pm - Comedian Pat Godman</p> <p>&nbsp\;</p> <p>&nbsp\;</p>
LOCATION:Nitwits Comedy Club Sioux Falls\, SD 57103
UID:e.9375.8
SEQUENCE:3
DTSTAMP:20260424T053035Z
URL:https://business.hbasiouxempire.com/events/details/march-membership-meeting-nitwits-comedy-club-03-18-2008-8
END:VEVENT

END:VCALENDAR
