BEGIN:VCALENDAR
VERSION:2.0
PRODID:-//ChamberMaster//Event Calendar 2.0//EN
METHOD:PUBLISH
X-PUBLISHED-TTL:P3D
REFRESH-INTERVAL:P3D
CALSCALE:GREGORIAN
BEGIN:VEVENT
DTSTART;VALUE=DATE:20110322
DTEND;VALUE=DATE:20110323
TRANSP:TRANSPARENT
X-MICROSOFT-CDO-ALLDAYEVENT:TRUE
SUMMARY:March Membership Mixer - Bowling
DESCRIPTION:Suburban Bowl (1 block east & 1 block south of 33rd & Minnesota) 5:30pm - Registration\n 6-8pm - Bowling & Pizza Ages 12 & under - Free
X-ALT-DESC;FMTTYPE=text/html:<p>Suburban Bowl (1 block east &amp\; 1 block south of 33rd &amp\; Minnesota)</p> <p>5:30pm - Registration<br /> 6-8pm - Bowling &amp\; Pizza</p> <p>Ages 12 &amp\; under - Free</p>
LOCATION:
UID:e.9375.92
SEQUENCE:3
DTSTAMP:20260420T095451Z
URL:https://business.hbasiouxempire.com/events/details/march-membership-mixer-bowling-03-22-2011-92
END:VEVENT

END:VCALENDAR
