BEGIN:VCALENDAR
VERSION:2.0
PRODID:-//ChamberMaster//Event Calendar 2.0//EN
METHOD:PUBLISH
X-PUBLISHED-TTL:P3D
REFRESH-INTERVAL:P3D
CALSCALE:GREGORIAN
BEGIN:VEVENT
DTSTART;VALUE=DATE:20100520
DTEND;VALUE=DATE:20100521
TRANSP:TRANSPARENT
X-MICROSOFT-CDO-ALLDAYEVENT:TRUE
SUMMARY:May 2010 Membership Meeting
DESCRIPTION:Westward Ho Country Club\n \n \n 6:00pm   Social Hour\n 7:00pm   Dinner ($18 w/ reservation OR $20 w/o reservation)\n 8:00pm   Program - "City Government Night"
X-ALT-DESC;FMTTYPE=text/html:<p>Westward Ho Country Club<br /> <br /> <br /> 6:00pm&nbsp\;&nbsp\; Social Hour<br /> 7:00pm&nbsp\;&nbsp\; Dinner ($18 w/ reservation OR $20 w/o reservation)<br /> 8:00pm&nbsp\;&nbsp\; Program -&nbsp\;&quot\;City Government Night&quot\;<br /> &nbsp\;</p> <p><br /> &nbsp\;</p>
LOCATION:Westward Ho Country Club Sioux Falls\, SD 57106
UID:e.9375.67
SEQUENCE:3
DTSTAMP:20260420T232924Z
URL:https://business.hbasiouxempire.com/events/details/may-2010-membership-meeting-05-20-2010-67
END:VEVENT

END:VCALENDAR
