BEGIN:VCALENDAR
VERSION:2.0
PRODID:-//ChamberMaster//Event Calendar 2.0//EN
METHOD:PUBLISH
X-PUBLISHED-TTL:P3D
REFRESH-INTERVAL:P3D
CALSCALE:GREGORIAN
BEGIN:VEVENT
DTSTART;VALUE=DATE:20110524
DTEND;VALUE=DATE:20110525
TRANSP:TRANSPARENT
X-MICROSOFT-CDO-ALLDAYEVENT:TRUE
SUMMARY:May 2011 Membership Meeting
DESCRIPTION:5:30pm - Social Hour\n 6:30pm - Dinner\n 7:30pm - Program
X-ALT-DESC;FMTTYPE=text/html:<p>&nbsp\;</p> <p>5:30pm - Social Hour<br /> 6:30pm - Dinner<br /> 7:30pm - Program</p> <p><br /> &nbsp\;</p>
LOCATION:
UID:e.9375.98
SEQUENCE:3
DTSTAMP:20260420T052758Z
URL:https://business.hbasiouxempire.com/events/details/may-2011-membership-meeting-05-24-2011-98
END:VEVENT

END:VCALENDAR
