BEGIN:VCALENDAR
VERSION:2.0
PRODID:-//ChamberMaster//Event Calendar 2.0//EN
METHOD:PUBLISH
X-PUBLISHED-TTL:P3D
REFRESH-INTERVAL:P3D
CALSCALE:GREGORIAN
BEGIN:VEVENT
DTSTART;VALUE=DATE:20111115
DTEND;VALUE=DATE:20111116
TRANSP:TRANSPARENT
X-MICROSOFT-CDO-ALLDAYEVENT:TRUE
SUMMARY:November 2011 Membership Meeting
DESCRIPTION:4:30pm - Member Orientation\n    5:00pm - Social Hour\n    6:00pm - Dinner\n    7:00pm - Program
X-ALT-DESC;FMTTYPE=text/html:<p>4:30pm&nbsp\;- Member Orientation<br>    5:00pm - Social Hour<br>    6:00pm - Dinner<br>    7:00pm - Program<br>    &nbsp\;</p>
LOCATION:6904 S. Lyncrest Pl. Sioux Falls\, SD 57108
UID:e.9375.111
SEQUENCE:3
DTSTAMP:20260419T215059Z
URL:https://business.hbasiouxempire.com/events/details/november-2011-membership-meeting-11-15-2011-111
END:VEVENT

END:VCALENDAR
