BEGIN:VCALENDAR
VERSION:2.0
PRODID:-//ChamberMaster//Event Calendar 2.0//EN
METHOD:PUBLISH
X-PUBLISHED-TTL:P3D
REFRESH-INTERVAL:P3D
CALSCALE:GREGORIAN
BEGIN:VEVENT
DTSTART;VALUE=DATE:20110602
DTEND;VALUE=DATE:20110603
TRANSP:TRANSPARENT
X-MICROSOFT-CDO-ALLDAYEVENT:TRUE
SUMMARY:Remodeling Council Picnic - 06/02/2011
DESCRIPTION:RMC Members - $5.00 Prospective RMC Members - Free
X-ALT-DESC;FMTTYPE=text/html:<p>RMC Members - $5.00</p> <p>Prospective RMC Members - Free</p>
LOCATION:
UID:e.9375.101
SEQUENCE:3
DTSTAMP:20260420T052147Z
URL:https://business.hbasiouxempire.com/events/details/remodeling-council-picnic-06-02-2011-06-02-2011-101
END:VEVENT

END:VCALENDAR
