BEGIN:VCALENDAR
VERSION:2.0
PRODID:-//ChamberMaster//Event Calendar 2.0//EN
METHOD:PUBLISH
X-PUBLISHED-TTL:P3D
REFRESH-INTERVAL:P3D
CALSCALE:GREGORIAN
BEGIN:VEVENT
DTSTART;VALUE=DATE:20091119
DTEND;VALUE=DATE:20091120
TRANSP:TRANSPARENT
X-MICROSOFT-CDO-ALLDAYEVENT:TRUE
SUMMARY:Seminar with Jim Mathis
DESCRIPTION:Re-evaluate\, Re-purpose & Re-invent Your Business
X-ALT-DESC;FMTTYPE=text/html:<p>Re-evaluate\, Re-purpose &amp\; Re-invent Your Business</p>
LOCATION:
UID:e.9375.49
SEQUENCE:3
DTSTAMP:20260421T081543Z
URL:https://business.hbasiouxempire.com/events/details/seminar-with-jim-mathis-11-19-2009-49
END:VEVENT

END:VCALENDAR
