BEGIN:VCALENDAR
VERSION:2.0
PRODID:-//ChamberMaster//Event Calendar 2.0//EN
METHOD:PUBLISH
X-PUBLISHED-TTL:P3D
REFRESH-INTERVAL:P3D
CALSCALE:GREGORIAN
BEGIN:VEVENT
DTSTART;VALUE=DATE:20090924
DTEND;VALUE=DATE:20090925
TRANSP:TRANSPARENT
X-MICROSOFT-CDO-ALLDAYEVENT:TRUE
SUMMARY:September 2009 Membership Meeting
DESCRIPTION:Westward Ho Country Club\n \n 6:00pm - Social Hour \n 7:00pm -  Dinner\n 8:00pm - Program
X-ALT-DESC;FMTTYPE=text/html:<p>Westward Ho Country Club<br /> <br /> 6:00pm - Social Hour <br /> 7:00pm -&nbsp\; Dinner<br /> 8:00pm - Program</p>
LOCATION:Westward Ho Country Club Sioux Falls\, SD 57106
UID:e.9375.44
SEQUENCE:3
DTSTAMP:20260423T021104Z
URL:https://business.hbasiouxempire.com/events/details/september-2009-membership-meeting-09-24-2009-44
END:VEVENT

END:VCALENDAR
