BEGIN:VCALENDAR
VERSION:2.0
PRODID:-//ChamberMaster//Event Calendar 2.0//EN
METHOD:PUBLISH
X-PUBLISHED-TTL:P3D
REFRESH-INTERVAL:P3D
CALSCALE:GREGORIAN
BEGIN:VEVENT
DTSTART;VALUE=DATE:20110929
DTEND;VALUE=DATE:20110930
TRANSP:TRANSPARENT
X-MICROSOFT-CDO-ALLDAYEVENT:TRUE
SUMMARY:September 2011 Membership Meeting
DESCRIPTION:This event will be outside in the HBA parking lot (except the orientation). Cost to enter the bean bag tournament is $5 per person (cash only). Keg sponsored by Hartung Homes. Bean bag tournament sponsored by Fischer\, Rounds & Associates. 5:00pm - Member Orientation\n    5:00pm - Social Hour\n    6:00pm - Dinner\n    6:30pm - Program (Parade awards\, Spike awards\, Membership Drive details\, etc.)\n    7:00pm - 9:00pm - Mixer / Bean Bag Tournament
X-ALT-DESC;FMTTYPE=text/html:<p>This event will be outside in the HBA parking lot (except the orientation). Cost to enter the bean bag tournament is $5 per person (cash only). Keg sponsored by Hartung Homes. Bean bag tournament sponsored by Fischer\, Rounds &amp\; Associates.</p> <p>5:00pm&nbsp\;- Member Orientation<br>    5:00pm - Social Hour<br>    6:00pm - Dinner<br>    6:30pm - Program (Parade awards\, Spike awards\, Membership Drive details\, etc.)<br>    7:00pm - 9:00pm - Mixer / Bean Bag Tournament</p> <p><br>    &nbsp\;</p>
LOCATION:6904 S. Lyncrest Pl. Sioux Falls\, SD 57108
UID:e.9375.107
SEQUENCE:3
DTSTAMP:20260420T005708Z
URL:https://business.hbasiouxempire.com/events/details/september-2011-membership-meeting-09-29-2011-107
END:VEVENT

END:VCALENDAR
