BEGIN:VCALENDAR
VERSION:2.0
PRODID:-//ChamberMaster//Event Calendar 2.0//EN
METHOD:PUBLISH
X-PUBLISHED-TTL:P3D
REFRESH-INTERVAL:P3D
CALSCALE:GREGORIAN
BEGIN:VEVENT
DTSTART:20111008T050000Z
DTEND:20111009T050000Z
X-MICROSOFT-CDO-ALLDAYEVENT:FALSE
SUMMARY:Showcase of Remodeled Homes - 10/08/2011
DESCRIPTION:
X-ALT-DESC;FMTTYPE=text/html:
LOCATION:
UID:e.9375.108
SEQUENCE:3
DTSTAMP:20260419T215848Z
URL:https://business.hbasiouxempire.com/events/details/showcase-of-remodeled-homes-10-08-2011-10-08-2011-108
END:VEVENT

END:VCALENDAR
