BEGIN:VCALENDAR
VERSION:2.0
PRODID:-//ChamberMaster//Event Calendar 2.0//EN
METHOD:PUBLISH
X-PUBLISHED-TTL:P3D
REFRESH-INTERVAL:P3D
CALSCALE:GREGORIAN
BEGIN:VEVENT
DTSTART:20101009T050000Z
DTEND:20101010T050000Z
X-MICROSOFT-CDO-ALLDAYEVENT:FALSE
SUMMARY:Showcase of Remodeled Homes - 10/09/2010
DESCRIPTION:
X-ALT-DESC;FMTTYPE=text/html:
LOCATION:
UID:e.9375.80
SEQUENCE:3
DTSTAMP:20260420T155921Z
URL:https://business.hbasiouxempire.com/events/details/showcase-of-remodeled-homes-10-09-2010-10-09-2010-80
END:VEVENT

END:VCALENDAR
