BEGIN:VCALENDAR
VERSION:2.0
PRODID:-//ChamberMaster//Event Calendar 2.0//EN
METHOD:PUBLISH
X-PUBLISHED-TTL:P3D
REFRESH-INTERVAL:P3D
CALSCALE:GREGORIAN
BEGIN:VEVENT
DTSTART:20081011T050000Z
DTEND:20081012T050000Z
X-MICROSOFT-CDO-ALLDAYEVENT:FALSE
SUMMARY:Showcase of Remodeled Homes - 10/11/2008
DESCRIPTION:Tickets:  $5.00 to view all 10 homes.
X-ALT-DESC;FMTTYPE=text/html:<p>Tickets:&nbsp\; $5.00 to view all 10 homes.</p>
LOCATION:
UID:e.9375.22
SEQUENCE:3
DTSTAMP:20260423T203854Z
URL:https://business.hbasiouxempire.com/events/details/showcase-of-remodeled-homes-10-11-2008-10-11-2008-22
END:VEVENT

END:VCALENDAR
