BEGIN:VCALENDAR
VERSION:2.0
PRODID:-//ChamberMaster//Event Calendar 2.0//EN
METHOD:PUBLISH
X-PUBLISHED-TTL:P3D
REFRESH-INTERVAL:P3D
CALSCALE:GREGORIAN
BEGIN:VEVENT
DTSTART:20110507T050000Z
DTEND:20110509T050000Z
X-MICROSOFT-CDO-ALLDAYEVENT:FALSE
SUMMARY:Spring Parade of Homes - 05/07/2011
DESCRIPTION:Newly constructed homes will be on display throughout the Sioux Empire. Tour these homes and see the hottest trends in the home building industry. You'll even have the opportunity to talk to some of the builders themselves. Admission into the homes is free (excluding any Feature Homes). Gold sponsor of the 2011 Parade of Homes is Thornton Flooring Outlet.
X-ALT-DESC;FMTTYPE=text/html:<p>Newly constructed homes will be on display throughout the Sioux Empire. Tour these homes and see the hottest trends in the home building industry. You&rsquo\;ll even have the opportunity to talk to some of the builders themselves. Admission into the homes is free (excluding any Feature Homes). Gold sponsor of the 2011 Parade of Homes is Thornton Flooring Outlet.</p>
LOCATION:
UID:e.9375.95
SEQUENCE:3
DTSTAMP:20260420T065053Z
URL:https://business.hbasiouxempire.com/events/details/spring-parade-of-homes-05-07-2011-05-07-2011-95
END:VEVENT

END:VCALENDAR
