BEGIN:VCALENDAR
VERSION:2.0
PRODID:-//ChamberMaster//Event Calendar 2.0//EN
METHOD:PUBLISH
X-PUBLISHED-TTL:P3D
REFRESH-INTERVAL:P3D
CALSCALE:GREGORIAN
BEGIN:VEVENT
DTSTART;VALUE=DATE:20111122
DTEND;VALUE=DATE:20111123
TRANSP:TRANSPARENT
X-MICROSOFT-CDO-ALLDAYEVENT:TRUE
SUMMARY:Tax Tips Seminar
DESCRIPTION:11:00am - 11:45am - Small Business Tax\n 11:45am - 12:15pm - Lunch\n 12:15pm - 1:00pm - Individual Tax
X-ALT-DESC;FMTTYPE=text/html:11:00am - 11:45am - Small Business Tax<br> 11:45am - 12:15pm - Lunch<br> 12:15pm - 1:00pm - Individual Tax
LOCATION:
UID:e.9375.113
SEQUENCE:3
DTSTAMP:20260419T202223Z
URL:https://business.hbasiouxempire.com/events/details/tax-tips-seminar-11-22-2011-113
END:VEVENT

END:VCALENDAR
