BEGIN:VCALENDAR
VERSION:2.0
PRODID:-//ChamberMaster//Event Calendar 2.0//EN
METHOD:PUBLISH
X-PUBLISHED-TTL:P3D
REFRESH-INTERVAL:P3D
CALSCALE:GREGORIAN
BEGIN:VEVENT
DTSTART;VALUE=DATE:20110222
DTEND;VALUE=DATE:20110223
TRANSP:TRANSPARENT
X-MICROSOFT-CDO-ALLDAYEVENT:TRUE
SUMMARY:Window Installation 101 w/ Steve Skedsvold
DESCRIPTION:
X-ALT-DESC;FMTTYPE=text/html:
LOCATION:
UID:e.9375.88
SEQUENCE:3
DTSTAMP:20260420T111133Z
URL:https://business.hbasiouxempire.com/events/details/window-installation-101-w-steve-skedsvold-02-22-2011-88
END:VEVENT

END:VCALENDAR
